BEGIN:VCALENDAR
VERSION:2.0
PRODID:-//Institute for Biblical Peacemakers - ECPv6.15.20//NONSGML v1.0//EN
CALSCALE:GREGORIAN
METHOD:PUBLISH
X-WR-CALNAME:Institute for Biblical Peacemakers
X-ORIGINAL-URL:https://biblicalpeacemakers.org
X-WR-CALDESC:Events for Institute for Biblical Peacemakers
REFRESH-INTERVAL;VALUE=DURATION:PT1H
X-Robots-Tag:noindex
X-PUBLISHED-TTL:PT1H
BEGIN:VTIMEZONE
TZID:UTC
BEGIN:STANDARD
TZOFFSETFROM:+0000
TZOFFSETTO:+0000
TZNAME:UTC
DTSTART:20250101T000000
END:STANDARD
END:VTIMEZONE
BEGIN:VEVENT
DTSTART;VALUE=DATE:20260427
DTEND;VALUE=DATE:20260505
DTSTAMP:20260421T021636
CREATED:20240906T170355Z
LAST-MODIFIED:20260413T234226Z
UID:799-1777248000-1777939199@biblicalpeacemakers.org
SUMMARY:Institute for Biblical Peacemakers: Conflict Coaching Practicum
DESCRIPTION:Greetings from the Institute for Biblical Peacemakers. Thank you for enrolling in Responding to Conflict Biblically.   Some of you have finished the course and others have enrolled only recently.  We are happy for your interest in studying biblical principles of conflict resolution. \nI have good news to share with you.   We have scheduled our next live Conflict Coaching Practicum for April 27th & May 4th. This next step in biblical peacemaking training features: \n\n8-10 hours of live training online via ZOOM with certified Adventist conciliators.\nFocus on helping a person address conflict in a God-honoring way.\nRole-playing a real case study\nTips on how to teach Responding to Conflict Biblically.\nUnderstanding the difference between “coaching” and “mediation”.\nHow to apply the principles taught in Responding to Conflict Biblically\nTwo 4-5 hour sessions.\n\nIf you have not yet finished your Responding to Conflict Biblically course\, there is time for you to complete it before the practicum.   However\, I advise you not to wait to register until you have completed the course because the class may be full.   Class size is limited to 12 and I wouldn’t want you to miss out. \n\nThe class includes 2 sessions one week apart.\nDates are Monday\, April 27th and Monday\, May 4th (Both sessions are required)\nTime is 1:00 pm – 5:00 pm Eastern Daylight Time\n\nCost:  $400 \n\n\nAfter you register\, Susan Smith\, our registrar\, will send instructions on how to get your materials and the Zoom link.  \nSign up online HERE or download & print our registration form HERE. If you are an employee of the Seventh-day Adventist Church\, you may have continuing education funds that can apply to the cost. \nFor questions or additional information contact:  Charles Brown\, Institute for Biblical Peacemakers\, email: cbrown@biblicalpeacmakers.org\, phone: 360-607-7446
URL:https://biblicalpeacemakers.org/event/rcb/
LOCATION:VIRTUAL
CATEGORIES:Conflict Coaching Practicum
ATTACH;FMTTYPE=image/webp:https://biblicalpeacemakers.org/wp-content/uploads/2024/09/Responding-to-Conflict-Biblically-4.webp
END:VEVENT
END:VCALENDAR